BEGIN:VCALENDAR
VERSION:2.0
PRODID:-//Guru Nanak Khalsa College - ECPv6.15.18//NONSGML v1.0//EN
CALSCALE:GREGORIAN
METHOD:PUBLISH
X-WR-CALNAME:Guru Nanak Khalsa College
X-ORIGINAL-URL:https://gnkhalsa.edu.in
X-WR-CALDESC:Events for Guru Nanak Khalsa College
REFRESH-INTERVAL;VALUE=DURATION:PT1H
X-Robots-Tag:noindex
X-PUBLISHED-TTL:PT1H
BEGIN:VTIMEZONE
TZID:UTC
BEGIN:STANDARD
TZOFFSETFROM:+0000
TZOFFSETTO:+0000
TZNAME:UTC
DTSTART:20240101T000000
END:STANDARD
END:VTIMEZONE
BEGIN:VEVENT
DTSTART;TZID=UTC:20250131T000000
DTEND;TZID=UTC:20250131T180000
DTSTAMP:20260423T060921
CREATED:20250129T051755Z
LAST-MODIFIED:20250129T051755Z
UID:12425-1738281600-1738346400@gnkhalsa.edu.in
SUMMARY:interview of GNIRD
DESCRIPTION:Interview of GNIRD
URL:https://gnkhalsa.edu.in/event/interview-of-gnird/
END:VEVENT
BEGIN:VEVENT
DTSTART;TZID=UTC:20250131T103000
DTEND;TZID=UTC:20250131T170000
DTSTAMP:20260423T060921
CREATED:20250130T085615Z
LAST-MODIFIED:20250130T085615Z
UID:12451-1738319400-1738342800@gnkhalsa.edu.in
SUMMARY:Result of Interview held on 27th January 2025 for Ph.D degree
DESCRIPTION:
URL:https://gnkhalsa.edu.in/event/result-of-interview-held-on-27th-january-2025-for-ph-d-degree/
END:VEVENT
END:VCALENDAR