BEGIN:VCALENDAR
VERSION:2.0
PRODID:-//Guru Nanak Khalsa College - ECPv6.15.18//NONSGML v1.0//EN
CALSCALE:GREGORIAN
METHOD:PUBLISH
X-WR-CALNAME:Guru Nanak Khalsa College
X-ORIGINAL-URL:https://gnkhalsa.edu.in
X-WR-CALDESC:Events for Guru Nanak Khalsa College
REFRESH-INTERVAL;VALUE=DURATION:PT1H
X-Robots-Tag:noindex
X-PUBLISHED-TTL:PT1H
BEGIN:VTIMEZONE
TZID:UTC
BEGIN:STANDARD
TZOFFSETFROM:+0000
TZOFFSETTO:+0000
TZNAME:UTC
DTSTART:20240101T000000
END:STANDARD
END:VTIMEZONE
BEGIN:VEVENT
DTSTART;TZID=UTC:20250204T080000
DTEND;TZID=UTC:20250204T180000
DTSTAMP:20260423T145329
CREATED:20250201T062746Z
LAST-MODIFIED:20250201T065626Z
UID:12461-1738656000-1738692000@gnkhalsa.edu.in
SUMMARY:Department of CS & IT presents E-Spark 25
DESCRIPTION:
URL:https://gnkhalsa.edu.in/event/e-spark25/
END:VEVENT
BEGIN:VEVENT
DTSTART;TZID=UTC:20250204T090000
DTEND;TZID=UTC:20250204T130000
DTSTAMP:20260423T145329
CREATED:20250129T052400Z
LAST-MODIFIED:20250129T052400Z
UID:12427-1738659600-1738674000@gnkhalsa.edu.in
SUMMARY:Affinity'25
DESCRIPTION:
URL:https://gnkhalsa.edu.in/event/affinity25/
LOCATION:Room No. 11 Ground Floor
END:VEVENT
END:VCALENDAR