BEGIN:VCALENDAR
VERSION:2.0
PRODID:-//Guru Nanak Khalsa College - ECPv6.15.18//NONSGML v1.0//EN
CALSCALE:GREGORIAN
METHOD:PUBLISH
X-WR-CALNAME:Guru Nanak Khalsa College
X-ORIGINAL-URL:https://gnkhalsa.edu.in
X-WR-CALDESC:Events for Guru Nanak Khalsa College
REFRESH-INTERVAL;VALUE=DURATION:PT1H
X-Robots-Tag:noindex
X-PUBLISHED-TTL:PT1H
BEGIN:VTIMEZONE
TZID:UTC
BEGIN:STANDARD
TZOFFSETFROM:+0000
TZOFFSETTO:+0000
TZNAME:UTC
DTSTART:20240101T000000
END:STANDARD
END:VTIMEZONE
BEGIN:VTIMEZONE
TZID:UTC
BEGIN:STANDARD
TZOFFSETFROM:+0000
TZOFFSETTO:+0000
TZNAME:UTC
DTSTART:20240101T000000
END:STANDARD
END:VTIMEZONE
BEGIN:VEVENT
DTSTART;VALUE=DATE:20250210
DTEND;VALUE=DATE:20250421
DTSTAMP:20260423T073902
CREATED:20250211T084704Z
LAST-MODIFIED:20250305T062856Z
UID:12752-1739145600-1745193599@gnkhalsa.edu.in
SUMMARY:Research Methodology and Publication Ethics
DESCRIPTION:
URL:https://gnkhalsa.edu.in/event/research-methodology-and-publication-ethics/
END:VEVENT
BEGIN:VEVENT
DTSTART;TZID=UTC:20250310T130000
DTEND;TZID=UTC:20250310T170000
DTSTAMP:20260423T073902
CREATED:20250303T110240Z
LAST-MODIFIED:20250304T045939Z
UID:13035-1741611600-1741626000@gnkhalsa.edu.in
SUMMARY:Ph.D admission and progress report  of Ph.D students in Physics Department
DESCRIPTION:
URL:https://gnkhalsa.edu.in/event/ph-d-admission-and-progress-report-of-ph-d-students/
LOCATION:physics department
END:VEVENT
BEGIN:VEVENT
DTSTART;TZID=UTC:20250310T130000
DTEND;TZID=UTC:20250310T170000
DTSTAMP:20260423T073902
CREATED:20250310T081653Z
LAST-MODIFIED:20250310T081653Z
UID:13070-1741611600-1741626000@gnkhalsa.edu.in
SUMMARY:NSE-UNLOCKED Mastering the Market
DESCRIPTION:
URL:https://gnkhalsa.edu.in/event/nse-unlocked-mastering-the-market/
END:VEVENT
END:VCALENDAR