BEGIN:VCALENDAR
VERSION:2.0
PRODID:-//Guru Nanak Khalsa College - ECPv6.15.18//NONSGML v1.0//EN
CALSCALE:GREGORIAN
METHOD:PUBLISH
X-WR-CALNAME:Guru Nanak Khalsa College
X-ORIGINAL-URL:https://gnkhalsa.edu.in
X-WR-CALDESC:Events for Guru Nanak Khalsa College
REFRESH-INTERVAL;VALUE=DURATION:PT1H
X-Robots-Tag:noindex
X-PUBLISHED-TTL:PT1H
BEGIN:VTIMEZONE
TZID:UTC
BEGIN:STANDARD
TZOFFSETFROM:+0000
TZOFFSETTO:+0000
TZNAME:UTC
DTSTART:20240101T000000
END:STANDARD
END:VTIMEZONE
BEGIN:VEVENT
DTSTART;TZID=UTC:20250823T113000
DTEND;TZID=UTC:20250823T133000
DTSTAMP:20260419T222942
CREATED:20250821T140723Z
LAST-MODIFIED:20250822T050639Z
UID:14246-1755948600-1755955800@gnkhalsa.edu.in
SUMMARY:Paper Bag making Brochure
DESCRIPTION:
URL:https://gnkhalsa.edu.in/event/paper-bag-making-brochure/
LOCATION:Botany Lab
END:VEVENT
END:VCALENDAR